
BEGIN:VCALENDAR
VERSION:2.0
PRODID:-//OEDA - ECPv6.15.18//NONSGML v1.0//EN
CALSCALE:GREGORIAN
METHOD:PUBLISH
X-ORIGINAL-URL:https://oeda.biz
X-WR-CALDESC:Events for OEDA
REFRESH-INTERVAL;VALUE=DURATION:PT1H
X-Robots-Tag:noindex
X-PUBLISHED-TTL:PT1H
BEGIN:VTIMEZONE
TZID:America/Los_Angeles
BEGIN:DAYLIGHT
TZOFFSETFROM:-0800
TZOFFSETTO:-0700
TZNAME:PDT
DTSTART:20240310T100000
END:DAYLIGHT
BEGIN:STANDARD
TZOFFSETFROM:-0700
TZOFFSETTO:-0800
TZNAME:PST
DTSTART:20241103T090000
END:STANDARD
BEGIN:DAYLIGHT
TZOFFSETFROM:-0800
TZOFFSETTO:-0700
TZNAME:PDT
DTSTART:20250309T100000
END:DAYLIGHT
BEGIN:STANDARD
TZOFFSETFROM:-0700
TZOFFSETTO:-0800
TZNAME:PST
DTSTART:20251102T090000
END:STANDARD
BEGIN:DAYLIGHT
TZOFFSETFROM:-0800
TZOFFSETTO:-0700
TZNAME:PDT
DTSTART:20260308T100000
END:DAYLIGHT
BEGIN:STANDARD
TZOFFSETFROM:-0700
TZOFFSETTO:-0800
TZNAME:PST
DTSTART:20261101T090000
END:STANDARD
END:VTIMEZONE
BEGIN:VEVENT
DTSTART;TZID=America/Los_Angeles:20251026T080000
DTEND;TZID=America/Los_Angeles:20251026T160000
DTSTAMP:20260424T015900
CREATED:20250815T005837Z
LAST-MODIFIED:20250927T002106Z
UID:4209-1761465600-1761494400@oeda.biz
SUMMARY:OCED Training: "Business Retention & Expansion"
DESCRIPTION:The Professional Development Committee is proud to bring you the final OCED Training of 2025 in conjunction with OEDA’s Annual Conference!\nJoin us IN PERSON on October 26th to learn the fundamentals of retaining and expanding Oregon’s business community from a robust team of consultants\, economic development professionals\, and successful industry practitioners in our OCED Course\, “Business Retention & Expansion (BRE)”. \nThe BRE course will be held in conjunction with the OEDA Annual Conference at Salishan Coastal Lodge! Training attendees will receive OEDA’s exclusive event rate for hotel accommodations\, along with a catered continental breakfast\, lunch\, and refreshment breaks throughout the day. \nIn-person courses offer valuable opportunities to connect\, build networks and partnerships\, and directly engage with leaders in the field. You won’t want to miss this unique learning experience on the Oregon Coast! \n \n  \nTIME & LOCATION:\n8:00 am – 4:00 pm (7:45 am Breakfast\, 12:30 pm Lunch service)\nSalishan Coastal Lodge\n7760 US-101\, Gleneden Beach OR 97388\n  \nREGISTRATION:\nCHOOSE BETWEEN TWO REGISTRATION OPTIONS: \nRegister for the Business Retention & Expansion training course alone -OR- combine it with the full Annual Conference for an even more impactful experience. See the options below to select the best fit for you! \nOption #1: OCED Training Course Registration ONLY ($275 – OEDA Member Price* / $325 – Non-Member Price) \n\nIncludes the 8-hour OCED Training Course packed with real-world case studies\, group work\, and pop quizzes (with prizes!) to keep things lively. Led by expert instructors from across Oregon\, this course is eligible for 8 credit hours toward OCED Certification. Includes continental breakfast\, lunch\, refreshment breaks\, and a few fun surprises to keep you fueled and focused throughout the day.\n\nOption #2: OCED Training + Conference Registration ($675 – OEDA Member Price* / $775 – Non-Member Price) \n\nEXCLUSIVE OCED STUDENT DISCOUNT! Save $50 on your Training Course + Conference Registration bundle using code: STUDENT50\nIncludes the 8-hour OCED Training Course with continental breakfast\, lunch\, and refreshment breaks\, plus full access to the OEDA Annual Conference: welcome reception\, Monday meals and breaks\, Annual Awards Banquet\, and Tuesday’s coastal exploration day with transportation\, breakfast\, lunch\, and scheduled site visits.\n\n*If you are uncertain of your OEDA membership status\, please contact the OEDA Admin Team at info@oeda.biz to ensure you receive member-pricing! \n \n  \nHOTEL RESERVATIONS:\nWe’ve secured an exclusive OEDA room block with discounted rates at Salishan Coastal Lodge for our Annual Conference!\nRoom Block closes September 25th\, so hurry to book your stay! \nSalishan Coastal Lodge\n7760 U.S. 101\, Gleneden Beach\, OR 97388\nsalishan.com \nOEDA Room Block at Salishan Coastal Lodge: October 25 – 29 \nTraditional Guestroom: $155 per night (plus tax)\n+ Lodge Amenity Fee WAIVED ($35 savings!)\n \n  \n  \n2025 OCED GRADUATION CEREMONY!\nJoin us for the 2025 OCED GRADUATION CEREMONY during OEDA’s Annual Conference! \nGraduates are honored during the OCED Graduation Ceremony & Luncheon on Monday\, October 27th\, and receive their custom engraved plaque. \nPlease email us at info@oeda.biz to learn more about OCED Graduation. \n  \n  \nTrack your progress through the OCED Training Program!\nClick the button below to discover which OCED Training Courses you have completed\, and which courses you still need to complete to earn your certification. \n \n  \nSTAY IN THE KNOW!\nWant information on upcoming OCED Courses? Use the links below to connect with OEDA’s communication network and be sure to never miss out on program details. \n\nSUBSCRIBE to our OEDA newsletter\nCONNECT with us on LinkedIn\nLIKE us on Facebook\n\nQuestions? Email the Professional Development Co-Chair\, Marta Tarantsey (Marta.Tarantsey@biz.or.gov)\, or the OEDA Admin Team (info@oeda.biz) \n\n\nTHANK YOU TO OUR ANNUAL PROGRAM SPONSORS!\n              \n  \nCANCELLATIONS:\nRefunds for in-person events are offered up to two weeks before the event date (refund cutoff date for this event is October 10th\, 2025). Students may also request an account credit for use toward future events or trainings. \nPlease contact the OEDA Admin Team (info@oeda.biz) for more information.
URL:https://oeda.biz/event/oced-training-business-retention-expansion-2/
LOCATION:Salishan Coastal Lodge\, 7760 US-101\, Gleneden Beach\, OR\, 97388\, United States
CATEGORIES:OCED Training Program
ATTACH;FMTTYPE=image/png:https://oeda.biz/wp-content/uploads/2025/08/3-Biz-Retention-1.png
ORGANIZER;CN="OEDA":MAILTO:info@oeda.biz
END:VEVENT
END:VCALENDAR